1.5625
0
0
-1.5625
219110.968024
433772.217224
