1.5625
0
0
-1.5625
200152.412024
447850.876437
