1.5625
0
0
-1.5625
175996.359024
421075.880768
