1.5625
0
0
-1.5625
180688.436024
341896.109591
