1.5625
0
0
-1.5625
213823.394024
590339.437024
