1.5625
0
0
-1.5625
237245.477024
553551.2045
