1.5625
0
0
-1.5625
142582.332024
525923.820902
