1.5625
0
0
-1.5625
212726.715024
582850.824878
