1.5625
0
0
-1.5625
183742.553024
337729.54148
