1.5625
0
0
-1.5625
239273.734024
469840.696878
