1.5625
0
0
-1.5625
190674.093024
435390.727618
