1.5625
0
0
-1.5625
140117.777024
404425.051205
