1.5625
0
0
-1.5625
109051.866024
448699.14439
