1.5625
0
0
-1.5625
135401.457024
446278.398614
