1.5625
0
0
-1.5625
191851.304024
599145.265547
