1.5625
0
0
-1.5625
243894.481024
491014.007008
