1.5625
0
0
-1.5625
166855.508024
487348.514622
