1.5625
0
0
-1.5625
213638.290024
471023.919839
