1.5625
0
0
-1.5625
122906.160024
460977.665795
