1.5625
0
0
-1.5625
174980.256024
463061.224512
