1.5625
0
0
-1.5625
214051.629024
564353.709984
