1.5625
0
0
-1.5625
99290.4360236
505760.523736
