1.5625
0
0
-1.5625
186918.651024
556743.668157
