1.5625
0
0
-1.5625
97216.9360236
429360.995866
