1.5625
0
0
-1.5625
160691.163024
417205.494094
