1.5625
0
0
-1.5625
157181.966024
412847.97426
