1.5625
0
0
-1.5625
197219.168024
384570.510634
