1.5625
0
0
-1.5625
189504.951024
369938.394787
