1.5625
0
0
-1.5625
43000.5540236
390391.693209
