1.5625
0
0
-1.5625
214263.608024
455361.893858
