1.5625
0
0
-1.5625
237356.986024
471027.033067
