1.5625
0
0
-1.5625
54984.1620236
376477.27539
