1.5625
0
0
-1.5625
61308.2980236
417255.824669
