1.5625
0
0
-1.5625
168135.687024
566901.659102
