1.5625
0
0
-1.5625
135795.005454
445415.949553
