1.5625
0
0
-1.5625
184797.786024
461036.638102
