1.5625
0
0
-1.5625
190415.137024
327892.812681
