1.5625
0
0
-1.5625
248557.670024
529700.60965
