1.5625
0
0
-1.5625
184740.560024
341000.85876
