1.5625
0
0
-1.5625
209250.886024
448080.193866
