1.5625
0
0
-1.5625
132683.086024
381822.764941
