1.5625
0
0
-1.5625
143806.696024
382489.602626
