1.5625
0
0
-1.5625
190030.466024
360131.92037
