1.5625
0
0
-1.5625
198965.695024
389569.364339
