1.5625
0
0
-1.5625
203448.121024
575364.299783
