1.5625
0
0
-1.5625
82792.1610236
386248.009528
