1.5625
0
0
-1.5625
140857.859024
482310.315472
