1.5625
0
0
-1.5625
211153.486024
449876.397177
