1.5625
0
0
-1.5625
186770.344024
316451.817898
