1.5625
0
0
-1.5625
176789.868024
576790.850346
